BEGIN:VCALENDAR
VERSION:2.0
PRODID:icalendar-ruby
CALSCALE:GREGORIAN
METHOD:PUBLISH
BEGIN:VEVENT
DTSTAMP:20260421T215815Z
UID:5-394325@fccmassillon.com
DTSTART:20261011T143000Z
DTEND:20261011T153000Z
CLASS:PUBLIC
CREATED:20260421T160144
DESCRIPTION:Sunday Worship
LAST-MODIFIED:20260421T160144
LOCATION:
SUMMARY:Sunday Worship
URL;VALUE=URI:https://fccmassillon.com/events/sunday-worship/2026-10-11
END:VEVENT
END:VCALENDAR
