BEGIN:VCALENDAR
VERSION:2.0
PRODID:icalendar-ruby
CALSCALE:GREGORIAN
METHOD:PUBLISH
BEGIN:VEVENT
DTSTAMP:20260421T202514Z
UID:5-394324@fccmassillon.com
DTSTART:20261004T143000Z
DTEND:20261004T153000Z
CLASS:PUBLIC
CREATED:20260421T160144
DESCRIPTION:Sunday Worship
LAST-MODIFIED:20260421T160144
LOCATION:
SUMMARY:Sunday Worship
URL;VALUE=URI:https://fccmassillon.com/events/sunday-worship/2026-10-04
END:VEVENT
END:VCALENDAR
