BEGIN:VCALENDAR
VERSION:2.0
PRODID:icalendar-ruby
CALSCALE:GREGORIAN
METHOD:PUBLISH
BEGIN:VEVENT
DTSTAMP:20260421T145245Z
UID:5-393799@fccmassillon.com
DTSTART:20260913T143000Z
DTEND:20260913T153000Z
CLASS:PUBLIC
CREATED:20260421T104545
DESCRIPTION:Sunday Worship
LAST-MODIFIED:20260421T104545
LOCATION:
SUMMARY:Sunday Worship
URL;VALUE=URI:https://fccmassillon.com/events/sunday-worship/2026-09-13
END:VEVENT
END:VCALENDAR
