BEGIN:VCALENDAR
VERSION:2.0
PRODID:icalendar-ruby
CALSCALE:GREGORIAN
METHOD:PUBLISH
BEGIN:VEVENT
DTSTAMP:20260421T113425Z
UID:5-393275@fccmassillon.com
DTSTART:20260830T143000Z
DTEND:20260830T153000Z
CLASS:PUBLIC
CREATED:20260420T210330
DESCRIPTION:Sunday Worship
LAST-MODIFIED:20260420T210330
LOCATION:
SUMMARY:Sunday Worship
URL;VALUE=URI:https://fccmassillon.com/events/sunday-worship/2026-08-30
END:VEVENT
END:VCALENDAR
